BEGIN:VCALENDAR
VERSION:2.0
PRODID:-//An Crùbh - ECPv6.15.20//NONSGML v1.0//EN
CALSCALE:GREGORIAN
METHOD:PUBLISH
X-WR-CALNAME:An Crùbh
X-ORIGINAL-URL:https://ancrubh.com
X-WR-CALDESC:Events for An Crùbh
REFRESH-INTERVAL;VALUE=DURATION:PT1H
X-Robots-Tag:noindex
X-PUBLISHED-TTL:PT1H
BEGIN:VTIMEZONE
TZID:Europe/London
BEGIN:DAYLIGHT
TZOFFSETFROM:+0000
TZOFFSETTO:+0100
TZNAME:BST
DTSTART:20240331T010000
END:DAYLIGHT
BEGIN:STANDARD
TZOFFSETFROM:+0100
TZOFFSETTO:+0000
TZNAME:GMT
DTSTART:20241027T010000
END:STANDARD
BEGIN:DAYLIGHT
TZOFFSETFROM:+0000
TZOFFSETTO:+0100
TZNAME:BST
DTSTART:20250330T010000
END:DAYLIGHT
BEGIN:STANDARD
TZOFFSETFROM:+0100
TZOFFSETTO:+0000
TZNAME:GMT
DTSTART:20251026T010000
END:STANDARD
BEGIN:DAYLIGHT
TZOFFSETFROM:+0000
TZOFFSETTO:+0100
TZNAME:BST
DTSTART:20260329T010000
END:DAYLIGHT
BEGIN:STANDARD
TZOFFSETFROM:+0100
TZOFFSETTO:+0000
TZNAME:GMT
DTSTART:20261025T010000
END:STANDARD
END:VTIMEZONE
BEGIN:VEVENT
DTSTART;TZID=Europe/London:20250703T183000
DTEND;TZID=Europe/London:20250703T194500
DTSTAMP:20260419T204914
CREATED:20250703T085451Z
LAST-MODIFIED:20250703T085451Z
UID:1968-1751567400-1751571900@ancrubh.com
SUMMARY:Gokul Yoga
DESCRIPTION:6.30 – 7.45pm \nClass run by Gokul Yoga Skye. \nOpen to every level of practice. \nBook a spot\, email gokulyogaskye@gmail.com \n 
URL:https://ancrubh.com/event/gokul-yoga-7/
LOCATION:An Crùbh\, An Crubh\, Camuscross\, Duisdale Beag\, Sleat\, Isle of Skye\, IV43 8QU
CATEGORIES:Exercise,Health & Wellbeing
END:VEVENT
BEGIN:VEVENT
DTSTART;TZID=Europe/London:20250717T183000
DTEND;TZID=Europe/London:20250717T194500
DTSTAMP:20260419T204914
CREATED:20250703T085548Z
LAST-MODIFIED:20250703T085548Z
UID:1971-1752777000-1752781500@ancrubh.com
SUMMARY:Gokul Yoga
DESCRIPTION:6.30 – 7.45pm \nClass run by Gokul Yoga Skye. \nOpen to every level of practice. \nBook a spot\, email gokulyogaskye@gmail.com \n 
URL:https://ancrubh.com/event/gokul-yoga-8/
LOCATION:An Crùbh\, An Crubh\, Camuscross\, Duisdale Beag\, Sleat\, Isle of Skye\, IV43 8QU
CATEGORIES:Exercise,Health & Wellbeing
END:VEVENT
BEGIN:VEVENT
DTSTART;TZID=Europe/London:20250731T183000
DTEND;TZID=Europe/London:20250731T194500
DTSTAMP:20260419T204914
CREATED:20250703T085652Z
LAST-MODIFIED:20250703T085652Z
UID:1973-1753986600-1753991100@ancrubh.com
SUMMARY:Gokul Yoga
DESCRIPTION:6.30 – 7.45pm \nClass run by Gokul Yoga Skye. \nOpen to every level of practice. \nBook a spot\, email gokulyogaskye@gmail.com \n 
URL:https://ancrubh.com/event/gokul-yoga-9/
LOCATION:An Crùbh\, An Crubh\, Camuscross\, Duisdale Beag\, Sleat\, Isle of Skye\, IV43 8QU
CATEGORIES:Exercise,Health & Wellbeing
END:VEVENT
END:VCALENDAR