BEGIN:VCALENDAR
VERSION:2.0
PRODID:-//An Crùbh - ECPv6.15.20//NONSGML v1.0//EN
CALSCALE:GREGORIAN
METHOD:PUBLISH
X-WR-CALNAME:An Crùbh
X-ORIGINAL-URL:https://ancrubh.com
X-WR-CALDESC:Events for An Crùbh
REFRESH-INTERVAL;VALUE=DURATION:PT1H
X-Robots-Tag:noindex
X-PUBLISHED-TTL:PT1H
BEGIN:VTIMEZONE
TZID:Europe/London
BEGIN:DAYLIGHT
TZOFFSETFROM:+0000
TZOFFSETTO:+0100
TZNAME:BST
DTSTART:20240331T010000
END:DAYLIGHT
BEGIN:STANDARD
TZOFFSETFROM:+0100
TZOFFSETTO:+0000
TZNAME:GMT
DTSTART:20241027T010000
END:STANDARD
BEGIN:DAYLIGHT
TZOFFSETFROM:+0000
TZOFFSETTO:+0100
TZNAME:BST
DTSTART:20250330T010000
END:DAYLIGHT
BEGIN:STANDARD
TZOFFSETFROM:+0100
TZOFFSETTO:+0000
TZNAME:GMT
DTSTART:20251026T010000
END:STANDARD
BEGIN:DAYLIGHT
TZOFFSETFROM:+0000
TZOFFSETTO:+0100
TZNAME:BST
DTSTART:20260329T010000
END:DAYLIGHT
BEGIN:STANDARD
TZOFFSETFROM:+0100
TZOFFSETTO:+0000
TZNAME:GMT
DTSTART:20261025T010000
END:STANDARD
END:VTIMEZONE
BEGIN:VEVENT
DTSTART;TZID=Europe/London:20250206T183000
DTEND;TZID=Europe/London:20250206T194500
DTSTAMP:20260420T044716
CREATED:20240209T180622Z
LAST-MODIFIED:20250131T155300Z
UID:1657-1738866600-1738871100@ancrubh.com
SUMMARY:Gokul Yoga
DESCRIPTION:6.30 – 7.45pm \nClass run by Gokul Yoga Skye. \nOpen to every level of practice. \nBook a spot\, email gokulyogaskye@gmail.com \n 
URL:https://ancrubh.com/event/gokul-yoga/
LOCATION:An Crùbh\, An Crubh\, Camuscross\, Duisdale Beag\, Sleat\, Isle of Skye\, IV43 8QU
CATEGORIES:Exercise
END:VEVENT
BEGIN:VEVENT
DTSTART;TZID=Europe/London:20250213T183000
DTEND;TZID=Europe/London:20250213T194500
DTSTAMP:20260420T044716
CREATED:20250131T155525Z
LAST-MODIFIED:20250131T155525Z
UID:1726-1739471400-1739475900@ancrubh.com
SUMMARY:Gokul Yoga
DESCRIPTION:6.30 – 7.45pm \nClass run by Gokul Yoga Skye. \nOpen to every level of practice. \nBook a spot\, email gokulyogaskye@gmail.com \n 
URL:https://ancrubh.com/event/gokul-yoga-2/
LOCATION:An Crùbh\, An Crubh\, Camuscross\, Duisdale Beag\, Sleat\, Isle of Skye\, IV43 8QU
CATEGORIES:Exercise,Health & Wellbeing
END:VEVENT
BEGIN:VEVENT
DTSTART;TZID=Europe/London:20250220T183000
DTEND;TZID=Europe/London:20250220T194500
DTSTAMP:20260420T044716
CREATED:20250131T155710Z
LAST-MODIFIED:20250131T155710Z
UID:1728-1740076200-1740080700@ancrubh.com
SUMMARY:Gokul Yoga
DESCRIPTION:6.30 – 7.45pm \nClass run by Gokul Yoga Skye. \nOpen to every level of practice. \nBook a spot\, email gokulyogaskye@gmail.com \n 
URL:https://ancrubh.com/event/gokul-yoga-3/
LOCATION:An Crùbh\, An Crubh\, Camuscross\, Duisdale Beag\, Sleat\, Isle of Skye\, IV43 8QU
CATEGORIES:Exercise,Health & Wellbeing
END:VEVENT
BEGIN:VEVENT
DTSTART;TZID=Europe/London:20250227T183000
DTEND;TZID=Europe/London:20250227T194500
DTSTAMP:20260420T044716
CREATED:20250131T155814Z
LAST-MODIFIED:20250131T155814Z
UID:1730-1740681000-1740685500@ancrubh.com
SUMMARY:Gokul Yoga
DESCRIPTION:6.30 – 7.45pm \nClass run by Gokul Yoga Skye. \nOpen to every level of practice. \nBook a spot\, email gokulyogaskye@gmail.com \n 
URL:https://ancrubh.com/event/gokul-yoga-4/
LOCATION:An Crùbh\, An Crubh\, Camuscross\, Duisdale Beag\, Sleat\, Isle of Skye\, IV43 8QU
CATEGORIES:Exercise,Health & Wellbeing
END:VEVENT
END:VCALENDAR