BEGIN:VCALENDAR
VERSION:2.0
PRODID:-//An Crùbh - ECPv6.15.20//NONSGML v1.0//EN
CALSCALE:GREGORIAN
METHOD:PUBLISH
X-WR-CALNAME:An Crùbh
X-ORIGINAL-URL:https://ancrubh.com
X-WR-CALDESC:Events for An Crùbh
REFRESH-INTERVAL;VALUE=DURATION:PT1H
X-Robots-Tag:noindex
X-PUBLISHED-TTL:PT1H
BEGIN:VTIMEZONE
TZID:Europe/London
BEGIN:DAYLIGHT
TZOFFSETFROM:+0000
TZOFFSETTO:+0100
TZNAME:BST
DTSTART:20240331T010000
END:DAYLIGHT
BEGIN:STANDARD
TZOFFSETFROM:+0100
TZOFFSETTO:+0000
TZNAME:GMT
DTSTART:20241027T010000
END:STANDARD
BEGIN:DAYLIGHT
TZOFFSETFROM:+0000
TZOFFSETTO:+0100
TZNAME:BST
DTSTART:20250330T010000
END:DAYLIGHT
BEGIN:STANDARD
TZOFFSETFROM:+0100
TZOFFSETTO:+0000
TZNAME:GMT
DTSTART:20251026T010000
END:STANDARD
BEGIN:DAYLIGHT
TZOFFSETFROM:+0000
TZOFFSETTO:+0100
TZNAME:BST
DTSTART:20260329T010000
END:DAYLIGHT
BEGIN:STANDARD
TZOFFSETFROM:+0100
TZOFFSETTO:+0000
TZNAME:GMT
DTSTART:20261025T010000
END:STANDARD
END:VTIMEZONE
BEGIN:VEVENT
DTSTART;TZID=Europe/London:20250620T110000
DTEND;TZID=Europe/London:20250620T120000
DTSTAMP:20260419T205848
CREATED:20250618T122215Z
LAST-MODIFIED:20250618T122215Z
UID:1940-1750417200-1750420800@ancrubh.com
SUMMARY:Capacitar Wellbeing
DESCRIPTION:Wellbeing\, self-care and gentle movement using Capacitar practices led by local practitioner Sheila Mae Hamilton. \nCapacitar comes from a Spanish word meaning ‘’empowerment’’ and ‘’encouragement’’ and involves a range of practices. Find out more here.  \nNew members very welcome\, please come along and try it out. Usually the group stay for a coffee and cake in the cafe after the session. \n£5 per class\, pay on the day.
URL:https://ancrubh.com/event/capacitar-wellbeing/
LOCATION:An Crùbh\, An Crubh\, Camuscross\, Duisdale Beag\, Sleat\, Isle of Skye\, IV43 8QU
CATEGORIES:Health & Wellbeing
ATTACH;FMTTYPE=image/jpeg:https://ancrubh.com/wp-content/uploads/2024/01/Capacitar.jpeg
END:VEVENT
BEGIN:VEVENT
DTSTART;TZID=Europe/London:20250627T110000
DTEND;TZID=Europe/London:20250627T120000
DTSTAMP:20260419T205848
CREATED:20250618T122251Z
LAST-MODIFIED:20250618T122251Z
UID:1942-1751022000-1751025600@ancrubh.com
SUMMARY:Capacitar Wellbeing
DESCRIPTION:Wellbeing\, self-care and gentle movement using Capacitar practices led by local practitioner Sheila Mae Hamilton. \nCapacitar comes from a Spanish word meaning ‘’empowerment’’ and ‘’encouragement’’ and involves a range of practices. Find out more here.  \nNew members very welcome\, please come along and try it out. Usually the group stay for a coffee and cake in the cafe after the session. \n£5 per class\, pay on the day.
URL:https://ancrubh.com/event/capacitar-wellbeing-2/
LOCATION:An Crùbh\, An Crubh\, Camuscross\, Duisdale Beag\, Sleat\, Isle of Skye\, IV43 8QU
CATEGORIES:Health & Wellbeing
ATTACH;FMTTYPE=image/jpeg:https://ancrubh.com/wp-content/uploads/2024/01/Capacitar.jpeg
END:VEVENT
END:VCALENDAR