BEGIN:VCALENDAR
VERSION:2.0
PRODID:-//An Crùbh - ECPv6.15.20//NONSGML v1.0//EN
CALSCALE:GREGORIAN
METHOD:PUBLISH
X-ORIGINAL-URL:https://ancrubh.com
X-WR-CALDESC:Events for An Crùbh
REFRESH-INTERVAL;VALUE=DURATION:PT1H
X-Robots-Tag:noindex
X-PUBLISHED-TTL:PT1H
BEGIN:VTIMEZONE
TZID:Europe/London
BEGIN:DAYLIGHT
TZOFFSETFROM:+0000
TZOFFSETTO:+0100
TZNAME:BST
DTSTART:20240331T010000
END:DAYLIGHT
BEGIN:STANDARD
TZOFFSETFROM:+0100
TZOFFSETTO:+0000
TZNAME:GMT
DTSTART:20241027T010000
END:STANDARD
BEGIN:DAYLIGHT
TZOFFSETFROM:+0000
TZOFFSETTO:+0100
TZNAME:BST
DTSTART:20250330T010000
END:DAYLIGHT
BEGIN:STANDARD
TZOFFSETFROM:+0100
TZOFFSETTO:+0000
TZNAME:GMT
DTSTART:20251026T010000
END:STANDARD
BEGIN:DAYLIGHT
TZOFFSETFROM:+0000
TZOFFSETTO:+0100
TZNAME:BST
DTSTART:20260329T010000
END:DAYLIGHT
BEGIN:STANDARD
TZOFFSETFROM:+0100
TZOFFSETTO:+0000
TZNAME:GMT
DTSTART:20261025T010000
END:STANDARD
END:VTIMEZONE
BEGIN:VEVENT
DTSTART;TZID=Europe/London:20250502T140000
DTEND;TZID=Europe/London:20250502T150000
DTSTAMP:20260419T222953
CREATED:20250416T140951Z
LAST-MODIFIED:20250416T140951Z
UID:1793-1746194400-1746198000@ancrubh.com
SUMMARY:Line Dancing
DESCRIPTION:A great way to make new friends while learning a new skill…and having a boogie. \nSuitable for all abilities. \n£5 a class\, pay on the day.
URL:https://ancrubh.com/event/line-dancing-7/
LOCATION:An Crùbh\, An Crubh\, Camuscross\, Duisdale Beag\, Sleat\, Isle of Skye\, IV43 8QU
ATTACH;FMTTYPE=image/jpeg:https://ancrubh.com/wp-content/uploads/2023/09/Welcome.jpg
END:VEVENT
BEGIN:VEVENT
DTSTART;TZID=Europe/London:20250509T110000
DTEND;TZID=Europe/London:20250509T120000
DTSTAMP:20260419T222953
CREATED:20250507T121748Z
LAST-MODIFIED:20250507T121748Z
UID:1899-1746788400-1746792000@ancrubh.com
SUMMARY:Capacitar
DESCRIPTION:Wellbeing\, self-care and gentle movement using Capacitar practices led by local practitioner Sheila Mae Hamilton. \nCapacitar comes from a Spanish word meaning ‘’empowerment’’ and ‘’encouragement’’ and involves a range of practices. Find out more here.  \nNew members very welcome\, please come along and try it out. Usually the group stay for a coffee and cake in the cafe after the session. \n£5 per class\, pay on the day.
URL:https://ancrubh.com/event/capacitar-5/
LOCATION:An Crùbh\, An Crubh\, Camuscross\, Duisdale Beag\, Sleat\, Isle of Skye\, IV43 8QU
CATEGORIES:Health & Wellbeing
ATTACH;FMTTYPE=image/jpeg:https://ancrubh.com/wp-content/uploads/2024/01/Capacitar.jpeg
END:VEVENT
BEGIN:VEVENT
DTSTART;TZID=Europe/London:20250509T140000
DTEND;TZID=Europe/London:20250509T150000
DTSTAMP:20260419T222953
CREATED:20250416T141123Z
LAST-MODIFIED:20250416T141123Z
UID:1800-1746799200-1746802800@ancrubh.com
SUMMARY:Line Dancing
DESCRIPTION:A great way to make new friends while learning a new skill…and having a boogie. \nSuitable for all abilities. \n£5 a class\, pay on the day.
URL:https://ancrubh.com/event/line-dancing-8/
LOCATION:An Crùbh\, An Crubh\, Camuscross\, Duisdale Beag\, Sleat\, Isle of Skye\, IV43 8QU
ATTACH;FMTTYPE=image/jpeg:https://ancrubh.com/wp-content/uploads/2023/09/Welcome.jpg
END:VEVENT
BEGIN:VEVENT
DTSTART;TZID=Europe/London:20250516T110000
DTEND;TZID=Europe/London:20250516T120000
DTSTAMP:20260419T222953
CREATED:20250507T121907Z
LAST-MODIFIED:20250507T121907Z
UID:1898-1747393200-1747396800@ancrubh.com
SUMMARY:Capacitar
DESCRIPTION:Wellbeing\, self-care and gentle movement using Capacitar practices led by local practitioner Sheila Mae Hamilton. \nCapacitar comes from a Spanish word meaning ‘’empowerment’’ and ‘’encouragement’’ and involves a range of practices. Find out more here.  \nNew members very welcome\, please come along and try it out. Usually the group stay for a coffee and cake in the cafe after the session. \n£5 per class\, pay on the day.
URL:https://ancrubh.com/event/capacitar-6/
LOCATION:An Crùbh\, An Crubh\, Camuscross\, Duisdale Beag\, Sleat\, Isle of Skye\, IV43 8QU
CATEGORIES:Health & Wellbeing
ATTACH;FMTTYPE=image/jpeg:https://ancrubh.com/wp-content/uploads/2024/01/Capacitar.jpeg
END:VEVENT
BEGIN:VEVENT
DTSTART;TZID=Europe/London:20250523T110000
DTEND;TZID=Europe/London:20250523T120000
DTSTAMP:20260419T222953
CREATED:20250507T121944Z
LAST-MODIFIED:20250507T121944Z
UID:1897-1747998000-1748001600@ancrubh.com
SUMMARY:Capacitar
DESCRIPTION:Wellbeing\, self-care and gentle movement using Capacitar practices led by local practitioner Sheila Mae Hamilton. \nCapacitar comes from a Spanish word meaning ‘’empowerment’’ and ‘’encouragement’’ and involves a range of practices. Find out more here.  \nNew members very welcome\, please come along and try it out. Usually the group stay for a coffee and cake in the cafe after the session. \n£5 per class\, pay on the day.
URL:https://ancrubh.com/event/capacitar-7/
LOCATION:An Crùbh\, An Crubh\, Camuscross\, Duisdale Beag\, Sleat\, Isle of Skye\, IV43 8QU
CATEGORIES:Health & Wellbeing
ATTACH;FMTTYPE=image/jpeg:https://ancrubh.com/wp-content/uploads/2024/01/Capacitar.jpeg
END:VEVENT
BEGIN:VEVENT
DTSTART;TZID=Europe/London:20250523T140000
DTEND;TZID=Europe/London:20250523T150000
DTSTAMP:20260419T222953
CREATED:20250416T141715Z
LAST-MODIFIED:20250416T141715Z
UID:1802-1748008800-1748012400@ancrubh.com
SUMMARY:Line Dancing
DESCRIPTION:A great way to make new friends while learning a new skill…and having a boogie. \nSuitable for all abilities. \n£5 a class\, pay on the day.
URL:https://ancrubh.com/event/line-dancing-9/
LOCATION:An Crùbh\, An Crubh\, Camuscross\, Duisdale Beag\, Sleat\, Isle of Skye\, IV43 8QU
CATEGORIES:Dance
ATTACH;FMTTYPE=image/jpeg:https://ancrubh.com/wp-content/uploads/2023/09/Welcome.jpg
END:VEVENT
BEGIN:VEVENT
DTSTART;TZID=Europe/London:20250530T110000
DTEND;TZID=Europe/London:20250530T120000
DTSTAMP:20260419T222953
CREATED:20250507T122029Z
LAST-MODIFIED:20250618T122124Z
UID:1896-1748602800-1748606400@ancrubh.com
SUMMARY:Capacitar Wellbeing
DESCRIPTION:Wellbeing\, self-care and gentle movement using Capacitar practices led by local practitioner Sheila Mae Hamilton. \nCapacitar comes from a Spanish word meaning ‘’empowerment’’ and ‘’encouragement’’ and involves a range of practices. Find out more here.  \nNew members very welcome\, please come along and try it out. Usually the group stay for a coffee and cake in the cafe after the session. \n£5 per class\, pay on the day.
URL:https://ancrubh.com/event/capacitar-8/
LOCATION:An Crùbh\, An Crubh\, Camuscross\, Duisdale Beag\, Sleat\, Isle of Skye\, IV43 8QU
CATEGORIES:Health & Wellbeing
ATTACH;FMTTYPE=image/jpeg:https://ancrubh.com/wp-content/uploads/2024/01/Capacitar.jpeg
END:VEVENT
END:VCALENDAR