BEGIN:VCALENDAR
VERSION:2.0
PRODID:-//An Crùbh - ECPv6.15.20//NONSGML v1.0//EN
CALSCALE:GREGORIAN
METHOD:PUBLISH
X-WR-CALNAME:An Crùbh
X-ORIGINAL-URL:https://ancrubh.com
X-WR-CALDESC:Events for An Crùbh
REFRESH-INTERVAL;VALUE=DURATION:PT1H
X-Robots-Tag:noindex
X-PUBLISHED-TTL:PT1H
BEGIN:VTIMEZONE
TZID:Europe/London
BEGIN:DAYLIGHT
TZOFFSETFROM:+0000
TZOFFSETTO:+0100
TZNAME:BST
DTSTART:20240331T010000
END:DAYLIGHT
BEGIN:STANDARD
TZOFFSETFROM:+0100
TZOFFSETTO:+0000
TZNAME:GMT
DTSTART:20241027T010000
END:STANDARD
BEGIN:DAYLIGHT
TZOFFSETFROM:+0000
TZOFFSETTO:+0100
TZNAME:BST
DTSTART:20250330T010000
END:DAYLIGHT
BEGIN:STANDARD
TZOFFSETFROM:+0100
TZOFFSETTO:+0000
TZNAME:GMT
DTSTART:20251026T010000
END:STANDARD
BEGIN:DAYLIGHT
TZOFFSETFROM:+0000
TZOFFSETTO:+0100
TZNAME:BST
DTSTART:20260329T010000
END:DAYLIGHT
BEGIN:STANDARD
TZOFFSETFROM:+0100
TZOFFSETTO:+0000
TZNAME:GMT
DTSTART:20261025T010000
END:STANDARD
END:VTIMEZONE
BEGIN:VEVENT
DTSTART;TZID=Europe/London:20250418T110000
DTEND;TZID=Europe/London:20250418T120000
DTSTAMP:20260419T235517
CREATED:20250416T143433Z
LAST-MODIFIED:20250416T143433Z
UID:1814-1744974000-1744977600@ancrubh.com
SUMMARY:Capacitar
DESCRIPTION:Wellbeing\, self-care and gentle movement using Capacitar practices led by local practitioner Sheila Mae Hamilton. \nCapacitar comes from a Spanish word meaning ‘’empowerment’’ and ‘’encouragement’’ and involves a range of practices. Find out more here.  \nNew members very welcome\, please come along and try it out. Usually the group stay for a coffee and cake in the cafe after the session. \n£5 per class\, pay on the day.
URL:https://ancrubh.com/event/capacitar-3/
LOCATION:An Crùbh\, An Crubh\, Camuscross\, Duisdale Beag\, Sleat\, Isle of Skye\, IV43 8QU
CATEGORIES:Health & Wellbeing
ATTACH;FMTTYPE=image/jpeg:https://ancrubh.com/wp-content/uploads/2024/01/Capacitar.jpeg
END:VEVENT
BEGIN:VEVENT
DTSTART;TZID=Europe/London:20250418T140000
DTEND;TZID=Europe/London:20250418T150000
DTSTAMP:20260419T235517
CREATED:20250416T140800Z
LAST-MODIFIED:20250416T140800Z
UID:1791-1744984800-1744988400@ancrubh.com
SUMMARY:Line Dancing
DESCRIPTION:A great way to make new friends while learning a new skill…and having a boogie. \nSuitable for all abilities. \n£5 a class\, pay on the day.
URL:https://ancrubh.com/event/line-dancing-6/
LOCATION:An Crùbh\, An Crubh\, Camuscross\, Duisdale Beag\, Sleat\, Isle of Skye\, IV43 8QU
ATTACH;FMTTYPE=image/jpeg:https://ancrubh.com/wp-content/uploads/2023/09/Welcome.jpg
END:VEVENT
BEGIN:VEVENT
DTSTART;TZID=Europe/London:20250425T110000
DTEND;TZID=Europe/London:20250425T120000
DTSTAMP:20260419T235517
CREATED:20250416T143522Z
LAST-MODIFIED:20250416T143522Z
UID:1816-1745578800-1745582400@ancrubh.com
SUMMARY:Capacitar
DESCRIPTION:Wellbeing\, self-care and gentle movement using Capacitar practices led by local practitioner Sheila Mae Hamilton. \nCapacitar comes from a Spanish word meaning ‘’empowerment’’ and ‘’encouragement’’ and involves a range of practices. Find out more here.  \nNew members very welcome\, please come along and try it out. Usually the group stay for a coffee and cake in the cafe after the session. \n£5 per class\, pay on the day.
URL:https://ancrubh.com/event/capacitar-4/
LOCATION:An Crùbh\, An Crubh\, Camuscross\, Duisdale Beag\, Sleat\, Isle of Skye\, IV43 8QU
CATEGORIES:Health & Wellbeing
ATTACH;FMTTYPE=image/jpeg:https://ancrubh.com/wp-content/uploads/2024/01/Capacitar.jpeg
END:VEVENT
END:VCALENDAR