BEGIN:VCALENDAR
VERSION:2.0
PRODID:-//An Crùbh - ECPv6.15.20//NONSGML v1.0//EN
CALSCALE:GREGORIAN
METHOD:PUBLISH
X-ORIGINAL-URL:https://ancrubh.com
X-WR-CALDESC:Events for An Crùbh
REFRESH-INTERVAL;VALUE=DURATION:PT1H
X-Robots-Tag:noindex
X-PUBLISHED-TTL:PT1H
BEGIN:VTIMEZONE
TZID:Europe/London
BEGIN:DAYLIGHT
TZOFFSETFROM:+0000
TZOFFSETTO:+0100
TZNAME:BST
DTSTART:20240331T010000
END:DAYLIGHT
BEGIN:STANDARD
TZOFFSETFROM:+0100
TZOFFSETTO:+0000
TZNAME:GMT
DTSTART:20241027T010000
END:STANDARD
BEGIN:DAYLIGHT
TZOFFSETFROM:+0000
TZOFFSETTO:+0100
TZNAME:BST
DTSTART:20250330T010000
END:DAYLIGHT
BEGIN:STANDARD
TZOFFSETFROM:+0100
TZOFFSETTO:+0000
TZNAME:GMT
DTSTART:20251026T010000
END:STANDARD
BEGIN:DAYLIGHT
TZOFFSETFROM:+0000
TZOFFSETTO:+0100
TZNAME:BST
DTSTART:20260329T010000
END:DAYLIGHT
BEGIN:STANDARD
TZOFFSETFROM:+0100
TZOFFSETTO:+0000
TZNAME:GMT
DTSTART:20261025T010000
END:STANDARD
BEGIN:DAYLIGHT
TZOFFSETFROM:+0000
TZOFFSETTO:+0100
TZNAME:BST
DTSTART:20270328T010000
END:DAYLIGHT
BEGIN:STANDARD
TZOFFSETFROM:+0100
TZOFFSETTO:+0000
TZNAME:GMT
DTSTART:20271031T010000
END:STANDARD
END:VTIMEZONE
BEGIN:VEVENT
DTSTART;TZID=Europe/London:20250806T190000
DTEND;TZID=Europe/London:20250806T210000
DTSTAMP:20260421T204821
CREATED:20250703T085944Z
LAST-MODIFIED:20250724T121540Z
UID:1981-1754506800-1754514000@ancrubh.com
SUMMARY:South Skye Table Tennis Group (SSTTG)
DESCRIPTION:All welcome to the open table tennis sessions @ An Crùbh. \nSmall charge to cover hall rental. \nFor more details contact southskyettg@gmail.com \nFind us on Facebook: SSTTG
URL:https://ancrubh.com/event/south-skye-table-tennis-group-ssttg-11/
LOCATION:An Crùbh\, An Crubh\, Camuscross\, Duisdale Beag\, Sleat\, Isle of Skye\, IV43 8QU
CATEGORIES:Exercise,Health & Wellbeing
ATTACH;FMTTYPE=image/jpeg:https://ancrubh.com/wp-content/uploads/2025/04/IMG_3201-1.jpg
END:VEVENT
BEGIN:VEVENT
DTSTART;TZID=Europe/London:20250807T183000
DTEND;TZID=Europe/London:20250807T194500
DTSTAMP:20260421T204821
CREATED:20250724T121424Z
LAST-MODIFIED:20250724T121424Z
UID:2012-1754591400-1754595900@ancrubh.com
SUMMARY:Gokul Yoga
DESCRIPTION:6.30 – 7.45pm \nClass run by Gokul Yoga Skye. \nOpen to every level of practice. \nBook a spot\, email gokulyogaskye@gmail.com \n 
URL:https://ancrubh.com/event/gokul-yoga-10/
LOCATION:An Crùbh\, An Crubh\, Camuscross\, Duisdale Beag\, Sleat\, Isle of Skye\, IV43 8QU
CATEGORIES:Exercise,Health & Wellbeing
END:VEVENT
BEGIN:VEVENT
DTSTART;TZID=Europe/London:20250813T190000
DTEND;TZID=Europe/London:20250813T210000
DTSTAMP:20260421T204821
CREATED:20250724T121704Z
LAST-MODIFIED:20250724T121704Z
UID:2016-1755111600-1755118800@ancrubh.com
SUMMARY:South Skye Table Tennis Group (SSTTG)
DESCRIPTION:All welcome to the open table tennis sessions @ An Crùbh. \nSmall charge to cover hall rental. \nFor more details contact southskyettg@gmail.com \nFind us on Facebook: SSTTG
URL:https://ancrubh.com/event/south-skye-table-tennis-group-ssttg-12/
LOCATION:An Crùbh\, An Crubh\, Camuscross\, Duisdale Beag\, Sleat\, Isle of Skye\, IV43 8QU
CATEGORIES:Exercise,Health & Wellbeing
ATTACH;FMTTYPE=image/jpeg:https://ancrubh.com/wp-content/uploads/2025/04/IMG_3201-1.jpg
END:VEVENT
BEGIN:VEVENT
DTSTART;TZID=Europe/London:20250820T190000
DTEND;TZID=Europe/London:20250820T210000
DTSTAMP:20260421T204821
CREATED:20250724T121744Z
LAST-MODIFIED:20250724T121744Z
UID:2018-1755716400-1755723600@ancrubh.com
SUMMARY:South Skye Table Tennis Group (SSTTG)
DESCRIPTION:All welcome to the open table tennis sessions @ An Crùbh. \nSmall charge to cover hall rental. \nFor more details contact southskyettg@gmail.com \nFind us on Facebook: SSTTG
URL:https://ancrubh.com/event/south-skye-table-tennis-group-ssttg-13/
LOCATION:An Crùbh\, An Crubh\, Camuscross\, Duisdale Beag\, Sleat\, Isle of Skye\, IV43 8QU
CATEGORIES:Exercise,Health & Wellbeing
ATTACH;FMTTYPE=image/jpeg:https://ancrubh.com/wp-content/uploads/2025/04/IMG_3201-1.jpg
END:VEVENT
BEGIN:VEVENT
DTSTART;TZID=Europe/London:20250821T183000
DTEND;TZID=Europe/London:20250821T194500
DTSTAMP:20260421T204821
CREATED:20250724T123512Z
LAST-MODIFIED:20250724T123512Z
UID:2022-1755801000-1755805500@ancrubh.com
SUMMARY:Gokul Yoga
DESCRIPTION:6.30 – 7.45pm \nClass run by Gokul Yoga Skye. \nOpen to every level of practice. \nBook a spot\, email gokulyogaskye@gmail.com \n 
URL:https://ancrubh.com/event/gokul-yoga-11/
LOCATION:An Crùbh\, An Crubh\, Camuscross\, Duisdale Beag\, Sleat\, Isle of Skye\, IV43 8QU
CATEGORIES:Exercise,Health & Wellbeing
END:VEVENT
BEGIN:VEVENT
DTSTART;TZID=Europe/London:20250827T190000
DTEND;TZID=Europe/London:20250827T210000
DTSTAMP:20260421T204821
CREATED:20250724T121831Z
LAST-MODIFIED:20250724T121831Z
UID:2020-1756321200-1756328400@ancrubh.com
SUMMARY:South Skye Table Tennis Group (SSTTG)
DESCRIPTION:All welcome to the open table tennis sessions @ An Crùbh. \nSmall charge to cover hall rental. \nFor more details contact southskyettg@gmail.com \nFind us on Facebook: SSTTG
URL:https://ancrubh.com/event/south-skye-table-tennis-group-ssttg-14/
LOCATION:An Crùbh\, An Crubh\, Camuscross\, Duisdale Beag\, Sleat\, Isle of Skye\, IV43 8QU
CATEGORIES:Exercise,Health & Wellbeing
ATTACH;FMTTYPE=image/jpeg:https://ancrubh.com/wp-content/uploads/2025/04/IMG_3201-1.jpg
END:VEVENT
BEGIN:VEVENT
DTSTART;TZID=Europe/London:20250828T183000
DTEND;TZID=Europe/London:20250828T194500
DTSTAMP:20260421T204821
CREATED:20250724T123559Z
LAST-MODIFIED:20250724T123559Z
UID:2024-1756405800-1756410300@ancrubh.com
SUMMARY:Gokul Yoga
DESCRIPTION:6.30 – 7.45pm \nClass run by Gokul Yoga Skye. \nOpen to every level of practice. \nBook a spot\, email gokulyogaskye@gmail.com \n 
URL:https://ancrubh.com/event/gokul-yoga-12/
LOCATION:An Crùbh\, An Crubh\, Camuscross\, Duisdale Beag\, Sleat\, Isle of Skye\, IV43 8QU
CATEGORIES:Exercise,Health & Wellbeing
END:VEVENT
BEGIN:VEVENT
DTSTART;TZID=Europe/London:20251112T190000
DTEND;TZID=Europe/London:20251112T210000
DTSTAMP:20260421T204821
CREATED:20251112T134309Z
LAST-MODIFIED:20251112T135339Z
UID:2089-1762974000-1762981200@ancrubh.com
SUMMARY:South Skye Table Tennis
DESCRIPTION:Join fun sessions with the South Skye Table Tennis Group on every Wednesday evenings til 17th December 2025\, 7-9PM. All are welcome. \nEmail southskyettg@gmail.com for more info.
URL:https://ancrubh.com/event/south-skye-table-tennis/
LOCATION:An Crùbh\, An Crubh\, Camuscross\, Duisdale Beag\, Sleat\, Isle of Skye\, IV43 8QU
CATEGORIES:Exercise,Health & Wellbeing
ATTACH;FMTTYPE=image/jpeg:https://ancrubh.com/wp-content/uploads/2025/11/IMG_3201.jpg
ORGANIZER;CN="South Skye Table Tennis Group":MAILTO:southskyettg@gmail.com
END:VEVENT
BEGIN:VEVENT
DTSTART;TZID=Europe/London:20251119T190000
DTEND;TZID=Europe/London:20251119T210000
DTSTAMP:20260421T204821
CREATED:20251112T134349Z
LAST-MODIFIED:20251112T135406Z
UID:2096-1763578800-1763586000@ancrubh.com
SUMMARY:South Skye Table Tennis
DESCRIPTION:Join fun sessions with the South Skye Table Tennis Group on every Wednesday evenings til 17th December 2025\, 7-9PM. All are welcome. \nEmail southskyettg@gmail.com for more info.
URL:https://ancrubh.com/event/south-skye-table-tennis-2/
LOCATION:An Crùbh\, An Crubh\, Camuscross\, Duisdale Beag\, Sleat\, Isle of Skye\, IV43 8QU
CATEGORIES:Exercise,Health & Wellbeing
ATTACH;FMTTYPE=image/jpeg:https://ancrubh.com/wp-content/uploads/2025/11/IMG_3201.jpg
ORGANIZER;CN="South Skye Table Tennis Group":MAILTO:southskyettg@gmail.com
END:VEVENT
BEGIN:VEVENT
DTSTART;TZID=Europe/London:20251126T190000
DTEND;TZID=Europe/London:20251126T210000
DTSTAMP:20260421T204821
CREATED:20251112T134425Z
LAST-MODIFIED:20251112T135218Z
UID:2098-1764183600-1764190800@ancrubh.com
SUMMARY:South Skye Table Tennis
DESCRIPTION:Join fun sessions with the South Skye Table Tennis Group on every Wednesday evenings til 17th December 2025\, 7-9PM. All are welcome. \nEmail southskyettg@gmail.com for more info.
URL:https://ancrubh.com/event/south-skye-table-tennis-3/
LOCATION:An Crùbh\, An Crubh\, Camuscross\, Duisdale Beag\, Sleat\, Isle of Skye\, IV43 8QU
CATEGORIES:Exercise,Health & Wellbeing
ATTACH;FMTTYPE=image/jpeg:https://ancrubh.com/wp-content/uploads/2025/11/IMG_3201.jpg
ORGANIZER;CN="South Skye Table Tennis Group":MAILTO:southskyettg@gmail.com
END:VEVENT
BEGIN:VEVENT
DTSTART;TZID=Europe/London:20251203T170000
DTEND;TZID=Europe/London:20251203T180000
DTSTAMP:20260421T204821
CREATED:20251112T124344Z
LAST-MODIFIED:20251112T135419Z
UID:2076-1764781200-1764784800@ancrubh.com
SUMMARY:Women's Circle: Empowerment and Restoration Through Community
DESCRIPTION:Connect through \n\nGuided meditation\nSoundbath\nSharing of our wisdom\nCreative expression\nSupporting each other\n\nHosted by Fenja\, a holistic guide\, space holder and creative soul. \nLimited spaces. Please email soulwisdom.fenja@gmail.com
URL:https://ancrubh.com/event/womens-circle-empowerment-and-restoration-through-community/
LOCATION:An Crùbh\, An Crubh\, Camuscross\, Duisdale Beag\, Sleat\, Isle of Skye\, IV43 8QU
CATEGORIES:Dance,Entertainment,Exercise,Health & Wellbeing
ATTACH;FMTTYPE=image/jpeg:https://ancrubh.com/wp-content/uploads/2025/11/bb28e70f-39e9-40bd-b737-4f81e12e19a7.jpg
END:VEVENT
BEGIN:VEVENT
DTSTART;TZID=Europe/London:20251208T183000
DTEND;TZID=Europe/London:20251208T193000
DTSTAMP:20260421T204821
CREATED:20251207T221822Z
LAST-MODIFIED:20251207T221822Z
UID:2136-1765218600-1765222200@ancrubh.com
SUMMARY:Yoga & Movement
DESCRIPTION:Learn the ancient wisdom of martial arts & yoga from Satria Arts Scotland. Roll\, move\, strengthen in this active class. \nEmail satriaartsscotland@gmail.com for more info or to book a spot.
URL:https://ancrubh.com/event/yoga-movement/
LOCATION:Isle of Skye
CATEGORIES:Exercise,Health & Wellbeing
ATTACH;FMTTYPE=image/png:https://ancrubh.com/wp-content/uploads/2025/12/Screenshot-2025-12-07-at-22.14.30.png
END:VEVENT
BEGIN:VEVENT
DTSTART;TZID=Europe/London:20251210T190000
DTEND;TZID=Europe/London:20251210T210000
DTSTAMP:20260421T204821
CREATED:20251112T134505Z
LAST-MODIFIED:20251112T135203Z
UID:2100-1765393200-1765400400@ancrubh.com
SUMMARY:South Skye Table Tennis
DESCRIPTION:Join fun sessions with the South Skye Table Tennis Group on every Wednesday evenings til 17th December 2025\, 7-9PM. All are welcome. \nEmail southskyettg@gmail.com for more info.
URL:https://ancrubh.com/event/south-skye-table-tennis-4/
LOCATION:An Crùbh\, An Crubh\, Camuscross\, Duisdale Beag\, Sleat\, Isle of Skye\, IV43 8QU
CATEGORIES:Exercise,Health & Wellbeing
ATTACH;FMTTYPE=image/jpeg:https://ancrubh.com/wp-content/uploads/2025/11/IMG_3201.jpg
ORGANIZER;CN="South Skye Table Tennis Group":MAILTO:southskyettg@gmail.com
END:VEVENT
BEGIN:VEVENT
DTSTART;TZID=Europe/London:20251211T183000
DTEND;TZID=Europe/London:20251211T194500
DTSTAMP:20260421T204821
CREATED:20251205T153323Z
LAST-MODIFIED:20251205T153358Z
UID:2126-1765477800-1765482300@ancrubh.com
SUMMARY:Yoga
DESCRIPTION:Strengthen the body & calm the mind in this classical yoga class taught by Tulan Yoga & Barre (formerly Gokul Yoga Skye). Email gokulyogaskye@gmail.com for info.
URL:https://ancrubh.com/event/yoga/
LOCATION:Isle of Skye
CATEGORIES:Exercise,Health & Wellbeing
ATTACH;FMTTYPE=image/jpeg:https://ancrubh.com/wp-content/uploads/2025/12/487995670_1205683181344599_7534171001965351834_n.jpg
END:VEVENT
BEGIN:VEVENT
DTSTART;TZID=Europe/London:20251215T183000
DTEND;TZID=Europe/London:20251215T193000
DTSTAMP:20260421T204821
CREATED:20251207T221928Z
LAST-MODIFIED:20251207T221928Z
UID:2139-1765823400-1765827000@ancrubh.com
SUMMARY:Yoga & Movement
DESCRIPTION:Learn the ancient wisdom of martial arts & yoga from Satria Arts Scotland. Roll\, move\, strengthen in this active class. \nEmail satriaartsscotland@gmail.com for more info or to book a spot.
URL:https://ancrubh.com/event/yoga-movement-2/
LOCATION:Isle of Skye
CATEGORIES:Exercise,Health & Wellbeing
ATTACH;FMTTYPE=image/png:https://ancrubh.com/wp-content/uploads/2025/12/Screenshot-2025-12-07-at-22.14.30.png
END:VEVENT
BEGIN:VEVENT
DTSTART;TZID=Europe/London:20251217T190000
DTEND;TZID=Europe/London:20251217T210000
DTSTAMP:20260421T204821
CREATED:20251112T134539Z
LAST-MODIFIED:20251112T135151Z
UID:2102-1765998000-1766005200@ancrubh.com
SUMMARY:South Skye Table Tennis
DESCRIPTION:Join fun sessions with the South Skye Table Tennis Group on every Wednesday evenings til 17th December 2025\, 7-9PM. All are welcome. \nEmail southskyettg@gmail.com for more info.
URL:https://ancrubh.com/event/south-skye-table-tennis-5/
LOCATION:An Crùbh\, An Crubh\, Camuscross\, Duisdale Beag\, Sleat\, Isle of Skye\, IV43 8QU
CATEGORIES:Exercise,Health & Wellbeing
ATTACH;FMTTYPE=image/jpeg:https://ancrubh.com/wp-content/uploads/2025/11/IMG_3201.jpg
ORGANIZER;CN="South Skye Table Tennis Group":MAILTO:southskyettg@gmail.com
END:VEVENT
BEGIN:VEVENT
DTSTART;TZID=Europe/London:20251218T183000
DTEND;TZID=Europe/London:20251218T194500
DTSTAMP:20260421T204821
CREATED:20251205T153522Z
LAST-MODIFIED:20251205T153522Z
UID:2130-1766082600-1766087100@ancrubh.com
SUMMARY:Yoga
DESCRIPTION:Strengthen the body & calm the mind in this classical yoga class taught by Tulan Yoga & Barre (formerly Gokul Yoga Skye). Email gokulyogaskye@gmail.com for info.
URL:https://ancrubh.com/event/yoga-2/
LOCATION:Isle of Skye
CATEGORIES:Exercise,Health & Wellbeing
ATTACH;FMTTYPE=image/jpeg:https://ancrubh.com/wp-content/uploads/2025/12/487995670_1205683181344599_7534171001965351834_n.jpg
END:VEVENT
BEGIN:VEVENT
DTSTART;TZID=Europe/London:20260110T170000
DTEND;TZID=Europe/London:20260110T180000
DTSTAMP:20260421T204821
CREATED:20251112T125148Z
LAST-MODIFIED:20251112T135127Z
UID:2081-1768064400-1768068000@ancrubh.com
SUMMARY:Women's Circle: Empowerment and Restoration Through Community
DESCRIPTION:Connect through \n\nGuided meditation\nSoundbath\nSharing of our wisdom\nCreative expression\nSupporting each other\n\nHosted by Fenja\, a holistic guide\, space holder and creative soul. \nLimited spaces. Please email soulwisdom.fenja@gmail.com
URL:https://ancrubh.com/event/womens-circle-empowerment-and-restoration-through-community-2/
LOCATION:An Crùbh\, An Crubh\, Camuscross\, Duisdale Beag\, Sleat\, Isle of Skye\, IV43 8QU
CATEGORIES:Dance,Entertainment,Exercise,Health & Wellbeing
ATTACH;FMTTYPE=image/jpeg:https://ancrubh.com/wp-content/uploads/2025/11/bb28e70f-39e9-40bd-b737-4f81e12e19a7.jpg
END:VEVENT
BEGIN:VEVENT
DTSTART;TZID=Europe/London:20260121T190000
DTEND;TZID=Europe/London:20260121T210000
DTSTAMP:20260421T204821
CREATED:20260121T134027Z
LAST-MODIFIED:20260121T134027Z
UID:2167-1769022000-1769029200@ancrubh.com
SUMMARY:South Skye Table Tennis
DESCRIPTION:Join fun sessions with the South Skye Table Tennis Group on every Wednesday evenings til 17th December 2025\, 7-9PM. All are welcome. \nEmail southskyettg@gmail.com for more info.
URL:https://ancrubh.com/event/south-skye-table-tennis-6/
LOCATION:An Crùbh\, An Crubh\, Camuscross\, Duisdale Beag\, Sleat\, Isle of Skye\, IV43 8QU
CATEGORIES:Exercise,Health & Wellbeing
ATTACH;FMTTYPE=image/jpeg:https://ancrubh.com/wp-content/uploads/2025/11/IMG_3201.jpg
ORGANIZER;CN="South Skye Table Tennis Group":MAILTO:southskyettg@gmail.com
END:VEVENT
BEGIN:VEVENT
DTSTART;TZID=Europe/London:20260128T190000
DTEND;TZID=Europe/London:20260128T210000
DTSTAMP:20260421T204821
CREATED:20260121T134107Z
LAST-MODIFIED:20260121T134107Z
UID:2169-1769626800-1769634000@ancrubh.com
SUMMARY:South Skye Table Tennis
DESCRIPTION:Join fun sessions with the South Skye Table Tennis Group on every Wednesday evenings til 17th December 2025\, 7-9PM. All are welcome. \nEmail southskyettg@gmail.com for more info.
URL:https://ancrubh.com/event/south-skye-table-tennis-7/
LOCATION:An Crùbh\, An Crubh\, Camuscross\, Duisdale Beag\, Sleat\, Isle of Skye\, IV43 8QU
CATEGORIES:Exercise,Health & Wellbeing
ATTACH;FMTTYPE=image/jpeg:https://ancrubh.com/wp-content/uploads/2025/11/IMG_3201.jpg
ORGANIZER;CN="South Skye Table Tennis Group":MAILTO:southskyettg@gmail.com
END:VEVENT
BEGIN:VEVENT
DTSTART;TZID=Europe/London:20260202T183000
DTEND;TZID=Europe/London:20260202T193000
DTSTAMP:20260421T204821
CREATED:20260121T134237Z
LAST-MODIFIED:20260121T134335Z
UID:2171-1770057000-1770060600@ancrubh.com
SUMMARY:Yoga & Movement
DESCRIPTION:Learn the ancient wisdom of martial arts & yoga from Satria Arts Scotland. Roll\, move\, strengthen in this active class. \nEmail satriaartsscotland@gmail.com for more info or to book a spot.
URL:https://ancrubh.com/event/yoga-movement-3/
LOCATION:Isle of Skye
CATEGORIES:Exercise,Health & Wellbeing
ATTACH;FMTTYPE=image/png:https://ancrubh.com/wp-content/uploads/2025/12/Screenshot-2025-12-07-at-22.14.30.png
END:VEVENT
BEGIN:VEVENT
DTSTART;TZID=Europe/London:20260207T170000
DTEND;TZID=Europe/London:20260207T180000
DTSTAMP:20260421T204821
CREATED:20251112T125220Z
LAST-MODIFIED:20251112T135139Z
UID:2083-1770483600-1770487200@ancrubh.com
SUMMARY:Women's Circle: Empowerment and Restoration Through Community
DESCRIPTION:Connect through \n\nGuided meditation\nSoundbath\nSharing of our wisdom\nCreative expression\nSupporting each other\n\nHosted by Fenja\, a holistic guide\, space holder and creative soul. \nLimited spaces. Please email soulwisdom.fenja@gmail.com
URL:https://ancrubh.com/event/womens-circle-empowerment-and-restoration-through-community-3/
LOCATION:An Crùbh\, An Crubh\, Camuscross\, Duisdale Beag\, Sleat\, Isle of Skye\, IV43 8QU
CATEGORIES:Dance,Entertainment,Exercise,Health & Wellbeing
ATTACH;FMTTYPE=image/jpeg:https://ancrubh.com/wp-content/uploads/2025/11/bb28e70f-39e9-40bd-b737-4f81e12e19a7.jpg
END:VEVENT
BEGIN:VEVENT
DTSTART;TZID=Europe/London:20260209T183000
DTEND;TZID=Europe/London:20260209T193000
DTSTAMP:20260421T204821
CREATED:20260121T134352Z
LAST-MODIFIED:20260121T134352Z
UID:2173-1770661800-1770665400@ancrubh.com
SUMMARY:Yoga & Movement
DESCRIPTION:Learn the ancient wisdom of martial arts & yoga from Satria Arts Scotland. Roll\, move\, strengthen in this active class. \nEmail satriaartsscotland@gmail.com for more info or to book a spot.
URL:https://ancrubh.com/event/yoga-movement-4/
LOCATION:Isle of Skye
CATEGORIES:Exercise,Health & Wellbeing
ATTACH;FMTTYPE=image/png:https://ancrubh.com/wp-content/uploads/2025/12/Screenshot-2025-12-07-at-22.14.30.png
END:VEVENT
BEGIN:VEVENT
DTSTART;TZID=Europe/London:20260313T110000
DTEND;TZID=Europe/London:20260313T120000
DTSTAMP:20260421T204821
CREATED:20260312T143712Z
LAST-MODIFIED:20260312T143712Z
UID:2241-1773399600-1773403200@ancrubh.com
SUMMARY:Capacitar Wellbeing
DESCRIPTION:Wellbeing\, self-care and gentle movement using Capacitar practices led by local practitioner Sheila Mae Hamilton. \nCapacitar comes from a Spanish word meaning ‘’empowerment’’ and ‘’encouragement’’ and involves a range of practices. Find out more here.  \nNew members very welcome\, please come along and try it out. Usually the group stay for a coffee and cake in the cafe after the session. \n£5 per class\, pay on the day.
URL:https://ancrubh.com/event/capacitar-wellbeing-3/
LOCATION:An Crùbh\, An Crubh\, Camuscross\, Duisdale Beag\, Sleat\, Isle of Skye\, IV43 8QU
CATEGORIES:Health & Wellbeing
ATTACH;FMTTYPE=image/jpeg:https://ancrubh.com/wp-content/uploads/2024/01/Capacitar.jpeg
END:VEVENT
BEGIN:VEVENT
DTSTART;TZID=Europe/London:20260318T190000
DTEND;TZID=Europe/London:20260318T210000
DTSTAMP:20260421T204821
CREATED:20260312T143445Z
LAST-MODIFIED:20260312T143445Z
UID:2234-1773860400-1773867600@ancrubh.com
SUMMARY:South Skye Table Tennis
DESCRIPTION:Join fun sessions with the South Skye Table Tennis Group on every Wednesday evenings til 17th December 2025\, 7-9PM. All are welcome. \nEmail southskyettg@gmail.com for more info.
URL:https://ancrubh.com/event/south-skye-table-tennis-8/
LOCATION:An Crùbh\, An Crubh\, Camuscross\, Duisdale Beag\, Sleat\, Isle of Skye\, IV43 8QU
CATEGORIES:Exercise,Health & Wellbeing
ATTACH;FMTTYPE=image/jpeg:https://ancrubh.com/wp-content/uploads/2025/11/IMG_3201.jpg
ORGANIZER;CN="South Skye Table Tennis Group":MAILTO:southskyettg@gmail.com
END:VEVENT
BEGIN:VEVENT
DTSTART;TZID=Europe/London:20260319T183000
DTEND;TZID=Europe/London:20260319T194500
DTSTAMP:20260421T204821
CREATED:20260312T143153Z
LAST-MODIFIED:20260312T143226Z
UID:2228-1773945000-1773949500@ancrubh.com
SUMMARY:Yoga
DESCRIPTION:Strengthen the body & calm the mind in this classical yoga class taught by Tulan Yoga & Barre (formerly Gokul Yoga Skye). Email gokulyogaskye@gmail.com for info.
URL:https://ancrubh.com/event/yoga-3/
LOCATION:An Crùbh\, An Crubh\, Camuscross\, Duisdale Beag\, Sleat\, Isle of Skye\, IV43 8QU
CATEGORIES:Exercise,Health & Wellbeing
ATTACH;FMTTYPE=image/jpeg:https://ancrubh.com/wp-content/uploads/2025/12/487995670_1205683181344599_7534171001965351834_n.jpg
END:VEVENT
BEGIN:VEVENT
DTSTART;TZID=Europe/London:20260320T110000
DTEND;TZID=Europe/London:20260320T120000
DTSTAMP:20260421T204821
CREATED:20260312T143740Z
LAST-MODIFIED:20260312T143740Z
UID:2244-1774004400-1774008000@ancrubh.com
SUMMARY:Capacitar Wellbeing
DESCRIPTION:Wellbeing\, self-care and gentle movement using Capacitar practices led by local practitioner Sheila Mae Hamilton. \nCapacitar comes from a Spanish word meaning ‘’empowerment’’ and ‘’encouragement’’ and involves a range of practices. Find out more here.  \nNew members very welcome\, please come along and try it out. Usually the group stay for a coffee and cake in the cafe after the session. \n£5 per class\, pay on the day.
URL:https://ancrubh.com/event/capacitar-wellbeing-4/
LOCATION:An Crùbh\, An Crubh\, Camuscross\, Duisdale Beag\, Sleat\, Isle of Skye\, IV43 8QU
CATEGORIES:Health & Wellbeing
ATTACH;FMTTYPE=image/jpeg:https://ancrubh.com/wp-content/uploads/2024/01/Capacitar.jpeg
END:VEVENT
BEGIN:VEVENT
DTSTART;TZID=Europe/London:20260325T190000
DTEND;TZID=Europe/London:20260325T210000
DTSTAMP:20260421T204821
CREATED:20260312T143508Z
LAST-MODIFIED:20260312T143508Z
UID:2236-1774465200-1774472400@ancrubh.com
SUMMARY:South Skye Table Tennis
DESCRIPTION:Join fun sessions with the South Skye Table Tennis Group on every Wednesday evenings til 17th December 2025\, 7-9PM. All are welcome. \nEmail southskyettg@gmail.com for more info.
URL:https://ancrubh.com/event/south-skye-table-tennis-9/
LOCATION:An Crùbh\, An Crubh\, Camuscross\, Duisdale Beag\, Sleat\, Isle of Skye\, IV43 8QU
CATEGORIES:Exercise,Health & Wellbeing
ATTACH;FMTTYPE=image/jpeg:https://ancrubh.com/wp-content/uploads/2025/11/IMG_3201.jpg
ORGANIZER;CN="South Skye Table Tennis Group":MAILTO:southskyettg@gmail.com
END:VEVENT
BEGIN:VEVENT
DTSTART;TZID=Europe/London:20260326T183000
DTEND;TZID=Europe/London:20260326T194500
DTSTAMP:20260421T204821
CREATED:20260312T143252Z
LAST-MODIFIED:20260312T143252Z
UID:2231-1774549800-1774554300@ancrubh.com
SUMMARY:Yoga
DESCRIPTION:Strengthen the body & calm the mind in this classical yoga class taught by Tulan Yoga & Barre (formerly Gokul Yoga Skye). Email gokulyogaskye@gmail.com for info.
URL:https://ancrubh.com/event/yoga-4/
LOCATION:An Crùbh\, An Crubh\, Camuscross\, Duisdale Beag\, Sleat\, Isle of Skye\, IV43 8QU
CATEGORIES:Exercise,Health & Wellbeing
ATTACH;FMTTYPE=image/jpeg:https://ancrubh.com/wp-content/uploads/2025/12/487995670_1205683181344599_7534171001965351834_n.jpg
END:VEVENT
BEGIN:VEVENT
DTSTART;TZID=Europe/London:20260327T110000
DTEND;TZID=Europe/London:20260327T120000
DTSTAMP:20260421T204821
CREATED:20260312T143804Z
LAST-MODIFIED:20260312T143804Z
UID:2246-1774609200-1774612800@ancrubh.com
SUMMARY:Capacitar Wellbeing
DESCRIPTION:Wellbeing\, self-care and gentle movement using Capacitar practices led by local practitioner Sheila Mae Hamilton. \nCapacitar comes from a Spanish word meaning ‘’empowerment’’ and ‘’encouragement’’ and involves a range of practices. Find out more here.  \nNew members very welcome\, please come along and try it out. Usually the group stay for a coffee and cake in the cafe after the session. \n£5 per class\, pay on the day.
URL:https://ancrubh.com/event/capacitar-wellbeing-5/
LOCATION:An Crùbh\, An Crubh\, Camuscross\, Duisdale Beag\, Sleat\, Isle of Skye\, IV43 8QU
CATEGORIES:Health & Wellbeing
ATTACH;FMTTYPE=image/jpeg:https://ancrubh.com/wp-content/uploads/2024/01/Capacitar.jpeg
END:VEVENT
END:VCALENDAR