BEGIN:VCALENDAR
VERSION:2.0
PRODID:-//An Crùbh - ECPv6.15.20//NONSGML v1.0//EN
CALSCALE:GREGORIAN
METHOD:PUBLISH
X-WR-CALNAME:An Crùbh
X-ORIGINAL-URL:https://ancrubh.com
X-WR-CALDESC:Events for An Crùbh
REFRESH-INTERVAL;VALUE=DURATION:PT1H
X-Robots-Tag:noindex
X-PUBLISHED-TTL:PT1H
BEGIN:VTIMEZONE
TZID:Europe/London
BEGIN:DAYLIGHT
TZOFFSETFROM:+0000
TZOFFSETTO:+0100
TZNAME:BST
DTSTART:20240331T010000
END:DAYLIGHT
BEGIN:STANDARD
TZOFFSETFROM:+0100
TZOFFSETTO:+0000
TZNAME:GMT
DTSTART:20241027T010000
END:STANDARD
BEGIN:DAYLIGHT
TZOFFSETFROM:+0000
TZOFFSETTO:+0100
TZNAME:BST
DTSTART:20250330T010000
END:DAYLIGHT
BEGIN:STANDARD
TZOFFSETFROM:+0100
TZOFFSETTO:+0000
TZNAME:GMT
DTSTART:20251026T010000
END:STANDARD
BEGIN:DAYLIGHT
TZOFFSETFROM:+0000
TZOFFSETTO:+0100
TZNAME:BST
DTSTART:20260329T010000
END:DAYLIGHT
BEGIN:STANDARD
TZOFFSETFROM:+0100
TZOFFSETTO:+0000
TZNAME:GMT
DTSTART:20261025T010000
END:STANDARD
END:VTIMEZONE
BEGIN:VEVENT
DTSTART;TZID=Europe/London:20250507T190000
DTEND;TZID=Europe/London:20250507T210000
DTSTAMP:20260421T204530
CREATED:20250507T121043Z
LAST-MODIFIED:20250507T121043Z
UID:1888-1746644400-1746651600@ancrubh.com
SUMMARY:South Skye Table Tennis Group (SSTTG)
DESCRIPTION:All welcome to the open table tennis sessions @ An Crùbh. \nSmall charge to cover hall rental. \nFor more details contact southskyettg@gmail.com \nFind us on Facebook: SSTTG
URL:https://ancrubh.com/event/south-skye-table-tennis-group-ssttg-4/
LOCATION:An Crùbh\, An Crubh\, Camuscross\, Duisdale Beag\, Sleat\, Isle of Skye\, IV43 8QU
CATEGORIES:Exercise,Health & Wellbeing
ATTACH;FMTTYPE=image/jpeg:https://ancrubh.com/wp-content/uploads/2025/04/IMG_3201-1.jpg
END:VEVENT
BEGIN:VEVENT
DTSTART;TZID=Europe/London:20250509T110000
DTEND;TZID=Europe/London:20250509T120000
DTSTAMP:20260421T204530
CREATED:20250507T121748Z
LAST-MODIFIED:20250507T121748Z
UID:1899-1746788400-1746792000@ancrubh.com
SUMMARY:Capacitar
DESCRIPTION:Wellbeing\, self-care and gentle movement using Capacitar practices led by local practitioner Sheila Mae Hamilton. \nCapacitar comes from a Spanish word meaning ‘’empowerment’’ and ‘’encouragement’’ and involves a range of practices. Find out more here.  \nNew members very welcome\, please come along and try it out. Usually the group stay for a coffee and cake in the cafe after the session. \n£5 per class\, pay on the day.
URL:https://ancrubh.com/event/capacitar-5/
LOCATION:An Crùbh\, An Crubh\, Camuscross\, Duisdale Beag\, Sleat\, Isle of Skye\, IV43 8QU
CATEGORIES:Health & Wellbeing
ATTACH;FMTTYPE=image/jpeg:https://ancrubh.com/wp-content/uploads/2024/01/Capacitar.jpeg
END:VEVENT
BEGIN:VEVENT
DTSTART;TZID=Europe/London:20250511T100000
DTEND;TZID=Europe/London:20250511T110000
DTSTAMP:20260421T204530
CREATED:20250416T150354Z
LAST-MODIFIED:20250416T150354Z
UID:1830-1746957600-1746961200@ancrubh.com
SUMMARY:Sunday Morning Pilates & Stretch Class
DESCRIPTION:General Information for Pilates at An Crubh\nPlease bring a yoga/Pilates/exercise mat with you and a small cushion that you are happy to put\non your mat.  If you don’t have a mat let me know – I have a few spare\, but I like to keep a couple\nof these back in case we get some surprise ‘drop ins’.\nYou will be working in bare feet.  If you don’t want to work in bare feet you need to wear some\n’sticky’ socks or ‘sticky’ toe socks.  These are socks with a rubber type material on the bottom to\nprevent slipping.  Google them if they are new to you.\nWear lose clothing/clothing that is easy to move and stretch in – layers are good – and bring some\ndrinking water in a closed bottle.\nDon’t worry if you haven’t done Pilates before and/or exercised for a while – I always provide\noptions so that everybody can work at a level that suits them.\nIf anybody has any questions or would just like some further explanation\, please feel free to email me at caroline.fowler@yahoo.co.uk
URL:https://ancrubh.com/event/sunday-morning-pilates-stretch-class-4/
LOCATION:Isle of Skye
CATEGORIES:Exercise,Health & Wellbeing
ATTACH;FMTTYPE=application/pdf:https://ancrubh.com/wp-content/uploads/2025/04/Pink-and-Orange-Playful-Pilates-Instagram-Post-1.pdf
END:VEVENT
BEGIN:VEVENT
DTSTART;TZID=Europe/London:20250514T190000
DTEND;TZID=Europe/London:20250514T210000
DTSTAMP:20260421T204530
CREATED:20250507T121123Z
LAST-MODIFIED:20250507T121123Z
UID:1890-1747249200-1747256400@ancrubh.com
SUMMARY:South Skye Table Tennis Group (SSTTG)
DESCRIPTION:All welcome to the open table tennis sessions @ An Crùbh. \nSmall charge to cover hall rental. \nFor more details contact southskyettg@gmail.com \nFind us on Facebook: SSTTG
URL:https://ancrubh.com/event/south-skye-table-tennis-group-ssttg-5/
LOCATION:An Crùbh\, An Crubh\, Camuscross\, Duisdale Beag\, Sleat\, Isle of Skye\, IV43 8QU
CATEGORIES:Exercise,Health & Wellbeing
ATTACH;FMTTYPE=image/jpeg:https://ancrubh.com/wp-content/uploads/2025/04/IMG_3201-1.jpg
END:VEVENT
BEGIN:VEVENT
DTSTART;TZID=Europe/London:20250516T110000
DTEND;TZID=Europe/London:20250516T120000
DTSTAMP:20260421T204530
CREATED:20250507T121907Z
LAST-MODIFIED:20250507T121907Z
UID:1898-1747393200-1747396800@ancrubh.com
SUMMARY:Capacitar
DESCRIPTION:Wellbeing\, self-care and gentle movement using Capacitar practices led by local practitioner Sheila Mae Hamilton. \nCapacitar comes from a Spanish word meaning ‘’empowerment’’ and ‘’encouragement’’ and involves a range of practices. Find out more here.  \nNew members very welcome\, please come along and try it out. Usually the group stay for a coffee and cake in the cafe after the session. \n£5 per class\, pay on the day.
URL:https://ancrubh.com/event/capacitar-6/
LOCATION:An Crùbh\, An Crubh\, Camuscross\, Duisdale Beag\, Sleat\, Isle of Skye\, IV43 8QU
CATEGORIES:Health & Wellbeing
ATTACH;FMTTYPE=image/jpeg:https://ancrubh.com/wp-content/uploads/2024/01/Capacitar.jpeg
END:VEVENT
BEGIN:VEVENT
DTSTART;TZID=Europe/London:20250521T190000
DTEND;TZID=Europe/London:20250521T210000
DTSTAMP:20260421T204530
CREATED:20250507T121202Z
LAST-MODIFIED:20250507T121202Z
UID:1892-1747854000-1747861200@ancrubh.com
SUMMARY:South Skye Table Tennis Group (SSTTG)
DESCRIPTION:All welcome to the open table tennis sessions @ An Crùbh. \nSmall charge to cover hall rental. \nFor more details contact southskyettg@gmail.com \nFind us on Facebook: SSTTG
URL:https://ancrubh.com/event/south-skye-table-tennis-group-ssttg-6/
LOCATION:An Crùbh\, An Crubh\, Camuscross\, Duisdale Beag\, Sleat\, Isle of Skye\, IV43 8QU
CATEGORIES:Exercise,Health & Wellbeing
ATTACH;FMTTYPE=image/jpeg:https://ancrubh.com/wp-content/uploads/2025/04/IMG_3201-1.jpg
END:VEVENT
BEGIN:VEVENT
DTSTART;TZID=Europe/London:20250523T110000
DTEND;TZID=Europe/London:20250523T120000
DTSTAMP:20260421T204530
CREATED:20250507T121944Z
LAST-MODIFIED:20250507T121944Z
UID:1897-1747998000-1748001600@ancrubh.com
SUMMARY:Capacitar
DESCRIPTION:Wellbeing\, self-care and gentle movement using Capacitar practices led by local practitioner Sheila Mae Hamilton. \nCapacitar comes from a Spanish word meaning ‘’empowerment’’ and ‘’encouragement’’ and involves a range of practices. Find out more here.  \nNew members very welcome\, please come along and try it out. Usually the group stay for a coffee and cake in the cafe after the session. \n£5 per class\, pay on the day.
URL:https://ancrubh.com/event/capacitar-7/
LOCATION:An Crùbh\, An Crubh\, Camuscross\, Duisdale Beag\, Sleat\, Isle of Skye\, IV43 8QU
CATEGORIES:Health & Wellbeing
ATTACH;FMTTYPE=image/jpeg:https://ancrubh.com/wp-content/uploads/2024/01/Capacitar.jpeg
END:VEVENT
BEGIN:VEVENT
DTSTART;TZID=Europe/London:20250528T190000
DTEND;TZID=Europe/London:20250528T210000
DTSTAMP:20260421T204530
CREATED:20250507T121245Z
LAST-MODIFIED:20250507T121245Z
UID:1894-1748458800-1748466000@ancrubh.com
SUMMARY:South Skye Table Tennis Group (SSTTG)
DESCRIPTION:All welcome to the open table tennis sessions @ An Crùbh. \nSmall charge to cover hall rental. \nFor more details contact southskyettg@gmail.com \nFind us on Facebook: SSTTG
URL:https://ancrubh.com/event/south-skye-table-tennis-group-ssttg-7/
LOCATION:An Crùbh\, An Crubh\, Camuscross\, Duisdale Beag\, Sleat\, Isle of Skye\, IV43 8QU
CATEGORIES:Exercise,Health & Wellbeing
ATTACH;FMTTYPE=image/jpeg:https://ancrubh.com/wp-content/uploads/2025/04/IMG_3201-1.jpg
END:VEVENT
BEGIN:VEVENT
DTSTART;TZID=Europe/London:20250530T110000
DTEND;TZID=Europe/London:20250530T120000
DTSTAMP:20260421T204530
CREATED:20250507T122029Z
LAST-MODIFIED:20250618T122124Z
UID:1896-1748602800-1748606400@ancrubh.com
SUMMARY:Capacitar Wellbeing
DESCRIPTION:Wellbeing\, self-care and gentle movement using Capacitar practices led by local practitioner Sheila Mae Hamilton. \nCapacitar comes from a Spanish word meaning ‘’empowerment’’ and ‘’encouragement’’ and involves a range of practices. Find out more here.  \nNew members very welcome\, please come along and try it out. Usually the group stay for a coffee and cake in the cafe after the session. \n£5 per class\, pay on the day.
URL:https://ancrubh.com/event/capacitar-8/
LOCATION:An Crùbh\, An Crubh\, Camuscross\, Duisdale Beag\, Sleat\, Isle of Skye\, IV43 8QU
CATEGORIES:Health & Wellbeing
ATTACH;FMTTYPE=image/jpeg:https://ancrubh.com/wp-content/uploads/2024/01/Capacitar.jpeg
END:VEVENT
END:VCALENDAR