BEGIN:VCALENDAR
VERSION:2.0
PRODID:-//An Crùbh - ECPv6.15.20//NONSGML v1.0//EN
CALSCALE:GREGORIAN
METHOD:PUBLISH
X-WR-CALNAME:An Crùbh
X-ORIGINAL-URL:https://ancrubh.com
X-WR-CALDESC:Events for An Crùbh
REFRESH-INTERVAL;VALUE=DURATION:PT1H
X-Robots-Tag:noindex
X-PUBLISHED-TTL:PT1H
BEGIN:VTIMEZONE
TZID:Europe/London
BEGIN:DAYLIGHT
TZOFFSETFROM:+0000
TZOFFSETTO:+0100
TZNAME:BST
DTSTART:20240331T010000
END:DAYLIGHT
BEGIN:STANDARD
TZOFFSETFROM:+0100
TZOFFSETTO:+0000
TZNAME:GMT
DTSTART:20241027T010000
END:STANDARD
BEGIN:DAYLIGHT
TZOFFSETFROM:+0000
TZOFFSETTO:+0100
TZNAME:BST
DTSTART:20250330T010000
END:DAYLIGHT
BEGIN:STANDARD
TZOFFSETFROM:+0100
TZOFFSETTO:+0000
TZNAME:GMT
DTSTART:20251026T010000
END:STANDARD
BEGIN:DAYLIGHT
TZOFFSETFROM:+0000
TZOFFSETTO:+0100
TZNAME:BST
DTSTART:20260329T010000
END:DAYLIGHT
BEGIN:STANDARD
TZOFFSETFROM:+0100
TZOFFSETTO:+0000
TZNAME:GMT
DTSTART:20261025T010000
END:STANDARD
END:VTIMEZONE
BEGIN:VEVENT
DTSTART;TZID=Europe/London:20251122T110000
DTEND;TZID=Europe/London:20251122T160000
DTSTAMP:20260421T174936
CREATED:20251106T123423Z
LAST-MODIFIED:20251112T135322Z
UID:2071-1763809200-1763827200@ancrubh.com
SUMMARY:Christmas Craft Fair
DESCRIPTION:‘Tis the season of giving and why not gift some handmade crafts to your loved ones? We have local artisans showcasing their best products. Or shop at An Crùbh’s store for quality ingredients to ensure you have a memorable Christmas feast. Our cafe will be serving a seasonal menu to keep you going.
URL:https://ancrubh.com/event/christmas-craft-fair/
LOCATION:An Crùbh\, An Crubh\, Camuscross\, Duisdale Beag\, Sleat\, Isle of Skye\, IV43 8QU
CATEGORIES:Art,Charity
ATTACH;FMTTYPE=image/jpeg:https://ancrubh.com/wp-content/uploads/2025/11/Untitled-design.jpg
ORGANIZER;CN="An Cr%C3%B9bh":MAILTO:manager@camuscross.org
END:VEVENT
END:VCALENDAR